BEGIN:VCALENDAR
VERSION:2.0
PRODID:-//Santestim - ECPv6.15.20//NONSGML v1.0//EN
CALSCALE:GREGORIAN
METHOD:PUBLISH
X-ORIGINAL-URL:https://www.santestim.com
X-WR-CALDESC:Évènements pour Santestim
REFRESH-INTERVAL;VALUE=DURATION:PT1H
X-Robots-Tag:noindex
X-PUBLISHED-TTL:PT1H
BEGIN:VTIMEZONE
TZID:Europe/Paris
BEGIN:DAYLIGHT
TZOFFSETFROM:+0100
TZOFFSETTO:+0200
TZNAME:CEST
DTSTART:20230326T010000
END:DAYLIGHT
BEGIN:STANDARD
TZOFFSETFROM:+0200
TZOFFSETTO:+0100
TZNAME:CET
DTSTART:20231029T010000
END:STANDARD
BEGIN:DAYLIGHT
TZOFFSETFROM:+0100
TZOFFSETTO:+0200
TZNAME:CEST
DTSTART:20240331T010000
END:DAYLIGHT
BEGIN:STANDARD
TZOFFSETFROM:+0200
TZOFFSETTO:+0100
TZNAME:CET
DTSTART:20241027T010000
END:STANDARD
BEGIN:DAYLIGHT
TZOFFSETFROM:+0100
TZOFFSETTO:+0200
TZNAME:CEST
DTSTART:20250330T010000
END:DAYLIGHT
BEGIN:STANDARD
TZOFFSETFROM:+0200
TZOFFSETTO:+0100
TZNAME:CET
DTSTART:20251026T010000
END:STANDARD
END:VTIMEZONE
BEGIN:VEVENT
DTSTART;TZID=Europe/Paris:20240905T193000
DTEND;TZID=Europe/Paris:20240905T193000
DTSTAMP:20260423T233338
CREATED:20240821T153928Z
LAST-MODIFIED:20240821T155029Z
UID:5030-1725564600-1725564600@www.santestim.com
SUMMARY:La manipulation vertébrale. A-t-on besoin d'un changement de paradigme ?
DESCRIPTION:Quelle est la place du professionnel du soin dans le monde de la Recherche en santé ? \nFaire de la recherche en santé\, c’est avant tout s’interroger sur sa pratique et déployer des ressources pour la perfectionner. C’est aussi s’ouvrir au monde en combinant les approches et en partageant la connaissance pour en faire bénéficier le plus grand nombre. Seulement\, comment s’attaquer à ce vaste chantier lorsqu’on n’a jamais participé à des travaux de recherche ? Comment transformer une simple idée\, une question\, survenue au détour d’une conversation ou lors d’une consultation\, en projet de recherche ? Comment exploiter et valoriser les résultats de ses premiers travaux de recherche? \nLors de ce webinaire\, Céline vous permettra de démystifier l’accès au monde de la recherche et de vous projeter dans la publication de vos travaux au sein de la communauté scientifique. \n 								\n				\n				\n				\n					            \n            \n					Informations généralesPublic : Acteurs de la santé \nProgramme : Conférence de 30 min suivie d’une session questions-réponses \nTarif : Gratuit \nLieu : Chaine YouTube Santestim et sur LinkedIn \n					\n					IntervenanteCéline Devroye \nDocteure en neurosciences et forte de 8 années d’expérience au sein de laboratoires de recherche fondamentale\, Céline Devroye accompagne individuellement les chercheurs dans l’écriture\, la publication et la diffusion de leurs travaux et projets de recherche sur la scène internationale. \nElle intervient également comme formatrice en méthodologie et diffusion de la recherche clinique au sein de centres hospitaliers. \n									\n				\n				\n				\n									 \nPour toute demande d’informations complémentaires\, contactez Pegguy Palcy à : contact@santestim.com \n 								\n				\n				\n				\n							\n			\n						\n		\n						\n				\n				\n				\n									Je m’inscris 								\n				\n				\n				\n							\n			\n			\n			\n\n			\n			\n								\n							\n\n						\n								\n													\n											\n								\n													\n											\n								\n													\n											\n								\n							\n\n						\n								\n													\n											\n								\n							\n\n						\n								\n												\n								J'ajoute quelques mots pour le plaisir							\n										\n								\n									\n								\n					\n						\n																						Envoyer
URL:https://www.santestim.com/calendrier/web1-09-2024/
LOCATION:YouTube Santestim\, France
CATEGORIES:Webinaire
ATTACH;FMTTYPE=image/png:https://www.santestim.com/wp-content/uploads/2024/08/Webinaire-1-05-09-2024.png
END:VEVENT
END:VCALENDAR